BEGIN:VCALENDAR
VERSION:2.0
CALSCALE:GREGORIAN
METHOD:PUBLISH
X-WR-TIMEZONE:Australia/Sydney
BEGIN:VTIMEZONE
TZID:Australia/Sydney
BEGIN:STANDARD
TZNAME:AEST
END:STANDARD
END:VTIMEZONE
BEGIN:VEVENT
DTSTART;TZID=Australia/Sydney:20260422
DTEND;TZID=Australia/Sydney:20260422
DTSTAMP:20260424T011400
UID:735
SUMMARY:Year 7 Placement - Applications Open
DESCRIPTION:




Head to&amp;nbsp;https://www.findmyschool.vic.gov.au/&amp;nbsp;to determine your nearest Zoned Secondary School.Applications for Year 7 Enrolments open today


SEQUENCE:0
STATUS:CONFIRMED
TRANSP:OPAQUE
END:VEVENT
END:VCALENDAR